BEGIN:VCALENDAR
VERSION:2.0
PRODID:-//3 Rivers RoadRunners - ECPv6.15.20//NONSGML v1.0//EN
CALSCALE:GREGORIAN
METHOD:PUBLISH
X-ORIGINAL-URL:https://3rrr.org
X-WR-CALDESC:Events for 3 Rivers RoadRunners
REFRESH-INTERVAL;VALUE=DURATION:PT1H
X-Robots-Tag:noindex
X-PUBLISHED-TTL:PT1H
BEGIN:VTIMEZONE
TZID:America/Los_Angeles
BEGIN:DAYLIGHT
TZOFFSETFROM:-0800
TZOFFSETTO:-0700
TZNAME:PDT
DTSTART:20210314T100000
END:DAYLIGHT
BEGIN:STANDARD
TZOFFSETFROM:-0700
TZOFFSETTO:-0800
TZNAME:PST
DTSTART:20211107T090000
END:STANDARD
BEGIN:DAYLIGHT
TZOFFSETFROM:-0800
TZOFFSETTO:-0700
TZNAME:PDT
DTSTART:20220313T100000
END:DAYLIGHT
BEGIN:STANDARD
TZOFFSETFROM:-0700
TZOFFSETTO:-0800
TZNAME:PST
DTSTART:20221106T090000
END:STANDARD
BEGIN:DAYLIGHT
TZOFFSETFROM:-0800
TZOFFSETTO:-0700
TZNAME:PDT
DTSTART:20230312T100000
END:DAYLIGHT
BEGIN:STANDARD
TZOFFSETFROM:-0700
TZOFFSETTO:-0800
TZNAME:PST
DTSTART:20231105T090000
END:STANDARD
END:VTIMEZONE
BEGIN:VEVENT
DTSTART;TZID=America/Los_Angeles:20221210T170000
DTEND;TZID=America/Los_Angeles:20221210T190000
DTSTAMP:20260419T104646
CREATED:20221129T025443Z
LAST-MODIFIED:20221129T025443Z
UID:38886-1670691600-1670698800@3rrr.org
SUMMARY:Santa Run and Reindeer Trot
DESCRIPTION:Time to get your jingle bells polished and Santa Suits fluffed!! It is almost time for the Benton City Santa Run and Reindeer Trot!!!!! ? … and don’t forget to order your shirts before December 1st to get them on Race Day!!! ??? Sponsored by Ki-Be Bears Athletic Booster Club!!! \nDate: December 10\, 2022 \nFees:  5K-$25\, 5K Santa Style-$20\, 1 Mile Trot-$10\, Ki-Be Kids-Free \nShirts: S-M-L-XL-$20\, XXL+ $25 \nRegistration Open: 8:00 AM \nRace Starts: 9:00 AM \nStarting location: Benton City Community Center\, 510 8TH Street\, Benton City\, WA 99320 \nMore information on our website here ??? \nhttps://runsantarun5k.wixsite.com/milkandcookies5k
URL:https://3rrr.org/calendar/santa-run-and-reindeer-trot/
CATEGORIES:Races
END:VEVENT
BEGIN:VEVENT
DTSTART;TZID=America/Los_Angeles:20221211T190000
DTEND;TZID=America/Los_Angeles:20221211T220000
DTSTAMP:20260419T104646
CREATED:20221123T204831Z
LAST-MODIFIED:20221123T204831Z
UID:38872-1670785200-1670796000@3rrr.org
SUMMARY:3RRR Christmas Party!!!
DESCRIPTION:3RRR Christmas Party at Atomic Ale!  Once again the fine folks at Atomic Ale Brewpub are providing us a venue for our annual Christmas Party (with a little bit of a meeting).  The date is Sunday\, December 11th from 11:00 am until 2:00 pm.  During that time Atomic is open exclusively for 3RRR members.  So if you are a member\, we hope you show up and remember it’s a convenient time to pay down your $20 annual dues.  If you are not a member\, then it’s a great time to join the club and enjoy some of the benefits of club membership right away.  For $20 per year per family\, you will get discounts on all of the races we put on and free beer at club meetings!  And at the Christmas Party it’s even more – the club picks up the beer tab and the soup tab and you will pick up the tab for any individual food items you order off the menu.  Hope we see you there and if you have any questions you can contact Eric at sageg@charter.net.
URL:https://3rrr.org/calendar/3rrr-christmas-party/
CATEGORIES:Other Events
END:VEVENT
END:VCALENDAR