BEGIN:VCALENDAR
VERSION:2.0
PRODID:-//3 Rivers RoadRunners - ECPv6.15.20//NONSGML v1.0//EN
CALSCALE:GREGORIAN
METHOD:PUBLISH
X-WR-CALNAME:3 Rivers RoadRunners
X-ORIGINAL-URL:https://3rrr.org
X-WR-CALDESC:Events for 3 Rivers RoadRunners
REFRESH-INTERVAL;VALUE=DURATION:PT1H
X-Robots-Tag:noindex
X-PUBLISHED-TTL:PT1H
BEGIN:VTIMEZONE
TZID:America/Los_Angeles
BEGIN:DAYLIGHT
TZOFFSETFROM:-0800
TZOFFSETTO:-0700
TZNAME:PDT
DTSTART:20210314T100000
END:DAYLIGHT
BEGIN:STANDARD
TZOFFSETFROM:-0700
TZOFFSETTO:-0800
TZNAME:PST
DTSTART:20211107T090000
END:STANDARD
BEGIN:DAYLIGHT
TZOFFSETFROM:-0800
TZOFFSETTO:-0700
TZNAME:PDT
DTSTART:20220313T100000
END:DAYLIGHT
BEGIN:STANDARD
TZOFFSETFROM:-0700
TZOFFSETTO:-0800
TZNAME:PST
DTSTART:20221106T090000
END:STANDARD
BEGIN:DAYLIGHT
TZOFFSETFROM:-0800
TZOFFSETTO:-0700
TZNAME:PDT
DTSTART:20230312T100000
END:DAYLIGHT
BEGIN:STANDARD
TZOFFSETFROM:-0700
TZOFFSETTO:-0800
TZNAME:PST
DTSTART:20231105T090000
END:STANDARD
END:VTIMEZONE
BEGIN:VEVENT
DTSTART;TZID=America/Los_Angeles:20221001T170000
DTEND;TZID=America/Los_Angeles:20221001T170000
DTSTAMP:20260419T070601
CREATED:20220621T082528Z
LAST-MODIFIED:20220715T200938Z
UID:37871-1664643600-1664643600@3rrr.org
SUMMARY:The Fast  Furriest WalkRun
DESCRIPTION:Join us for Benton Franklin Humane Society’s 5th annual 5k/1-mile run/walk! The race will take place along the Columbia\, beginning and ending from Columbia Point Marina Park. \nContact: Katelyn Reseck \nEmail: development@bfhs.com
URL:https://3rrr.org/calendar/the-fast-furriest-walkrun/
CATEGORIES:Races
END:VEVENT
BEGIN:VEVENT
DTSTART;TZID=America/Los_Angeles:20221001T170000
DTEND;TZID=America/Los_Angeles:20221001T190000
DTSTAMP:20260419T070601
CREATED:20220903T224017Z
LAST-MODIFIED:20220905T005259Z
UID:38491-1664643600-1664650800@3rrr.org
SUMMARY:Meals on Wheels Fundraiser 5 km (and more!)
DESCRIPTION:We are having our annual Meals on Wheels fundraiser event on Saturday October 1st. It is an untimed\, run or walk 5 km\, with meatballs \, pretzels\, gummy bears\, and water out on the course. Followed by German food and a beer garden after(or during) the run. We are trying to get the word out in earnest for this lead up month to the event. Are you willing and able to post anything about this on your website? Carrie Green is copied here and she has all sorts of material about it all. \nIt is back live in 2022! \n\nRun\, walk\, or relax at the venue\nFood\nBeer\, root beer\, wine (with a souvenir stein)\nGames for kids\nMusic\n\nSupport Meals on Wheels at this event \n  \nhttps://www.raceentry.com/races/oktoberfeast/2022/register \nOctober 1\, 2022 \n1824 Fowler St. \nRichland \nRunning starts at 10:00 and the course is open for 2 hours\, so people can start whenever they like.
URL:https://3rrr.org/calendar/meals-on-wheels-fundraiser-5-km-and-more/
CATEGORIES:Races
END:VEVENT
BEGIN:VEVENT
DTSTART;TZID=America/Los_Angeles:20221003T150000
DTEND;TZID=America/Los_Angeles:20221003T150000
DTSTAMP:20260419T070601
CREATED:20220601T021008Z
LAST-MODIFIED:20220607T224440Z
UID:37660-1664809200-1664809200@3rrr.org
SUMMARY:Quad Killer VK
DESCRIPTION:A rollercoaster style vertical kilometer race that climbs 3\,310 feet and descends 2\,648 feet in 5km. The trail is steep and narrow so the course will be open for 2 weeks to allow participants to spread out for safety. Must self time with a GPS device so we can verify the results. Prizes for top M & F and also randomly drawn. \nGo challenge yourself! \nMore information can be found at: https://sites.google.com/view/quadkillervk/home. \nContact: Jason Heineman \nEmail: quadkillervk@gmail.com
URL:https://3rrr.org/calendar/quad-killer-vk/
CATEGORIES:Races
END:VEVENT
BEGIN:VEVENT
DTSTART;TZID=America/Los_Angeles:20221008T200000
DTEND;TZID=America/Los_Angeles:20221008T220000
DTSTAMP:20260419T070601
CREATED:20221005T183706Z
LAST-MODIFIED:20221005T183706Z
UID:38769-1665259200-1665266400@3rrr.org
SUMMARY:October 3RRR Meeting
DESCRIPTION:3RRR MEETING ON SATURDAY\, OCTOBER 8 AT 1:00 PM AT RATTLESNAKE MOUNTAIN BREWING COMPANY (formerly Kimo’s).  Get your workout taken care of in the morning and meet us for lunch at Rattlesnake Mountain Brewing Company at 1:00 pm.  As usual\, you pick up your food tab and the club takes care of the beer tab.  We will be in the back section of the joint\, so you can look for us there when you come in.  Hope to see you Saturday!
URL:https://3rrr.org/calendar/october-3rrr-meeting/
LOCATION:Rattlesnake Mountain Brewing Company\, 2696 N Columbia Center Blvd\, Richland\, WA\, 99352
END:VEVENT
BEGIN:VEVENT
DTSTART;TZID=America/Los_Angeles:20221015T160000
DTEND;TZID=America/Los_Angeles:20221015T160000
DTSTAMP:20260419T070601
CREATED:20220831T130326Z
LAST-MODIFIED:20220903T221336Z
UID:38460-1665849600-1665849600@3rrr.org
SUMMARY:Pet OverPopulation Prevention Walk Run 5K httpsmyeventcom2022POPP
DESCRIPTION:We’re so excited to come together for Pooch and Pal\, the Pet OverPopulation Prevention’s annual dog-friendly fun run/walk and celebration\, featuring vendors and exhibitors\, family-friendly activities\, and of course\, games and plenty of treats for our furry participants! \nClick the link below to become a participant or to start your own team.\nhttps://myevent.com/2022POPP \nContact: Sherry Kowalski \nEmail: President@popptricities.org
URL:https://3rrr.org/calendar/pet-overpopulation-prevention-walk-run-5k-httpsmyeventcom2022popp/
CATEGORIES:Races
END:VEVENT
BEGIN:VEVENT
DTSTART;TZID=America/Los_Angeles:20221022T160000
DTEND;TZID=America/Los_Angeles:20221022T160000
DTSTAMP:20260419T070601
CREATED:20220831T015211Z
LAST-MODIFIED:20220903T221238Z
UID:38457-1666454400-1666454400@3rrr.org
SUMMARY:Trot For TROT
DESCRIPTION:Trot For TROT 5K/10K & 1 Mile Fun Run \nTherapeutic Riding of Tri-Cities (TROT) promotes physical\, psychological and social well-being of people with special needs by providing animal-assisted therapies and activities. All proceeds will go towards supporting Therapeutic Riding of Tri-Cities programs! \nTo register for the Trot For TROT\, visit https://www.trot3cities.org/trot-for-trot/ \nDate:\nSaturday\, October 22nd \nTime:\n8:00am – Race Day Registration/Late Pack Pick-Up\n8:45am – 1 Mile Fun Run/Walk Start Time\n9:00am – 5K/10K Race Start Time \nWhere:\nAll distances will start and finish at the Columbia Point Marina parking lot in Richland (600 Columbia Point Drive Richland\, WA). All courses will be out and back on pavement. Walk\, jog\, or run along the scenic Columbia River and enjoy some fresh air\, beautiful autumn scenery\, all while supporting a great cause! \nCost:\nAdult – $15 now until Oct. 1st (Oct. 2nd – 22nd = $20)\n12 & Under – $8\n5 & Under – Free\nLong Sleeve 2022 Trot for TROT Shirt – additional $10\n***YOU WILL NEED TO REGISTER ONLINE BY OCTOBER 1ST TO RECEIVE A SHIRT*** \nPacket Pickup:\nThursday Oct. 20th and Friday Oct. 21st from 8:00am – 6:00pm at TROT’s facility: 104 E. 41st Place Kennewick\, WA 99337. \nVolunteers: \nOur organization wouldn’t exist without the generous help of volunteers! If you would like to help with this event\, please email volunteer@trot3cities.org \nContact: Lauren Sheard \nEmail: volunteer@trot3cities.org
URL:https://3rrr.org/calendar/trot-for-trot/
CATEGORIES:Races
END:VEVENT
BEGIN:VEVENT
DTSTART;TZID=America/Los_Angeles:20221029T160000
DTEND;TZID=America/Los_Angeles:20221029T160000
DTSTAMP:20260419T070601
CREATED:20220926T092127Z
LAST-MODIFIED:20220927T023237Z
UID:38688-1667059200-1667059200@3rrr.org
SUMMARY:Dia de los Muertos 5k 10k kids fun run and 12 Marathon
DESCRIPTION:Welcome to the 5th annual DDLM run\, a celebration of life and afterlife. We have returned to downtown Pasco after a Covid hiatus\, this year adding a half and continuing our tradition of “day of the dead” decor & face painting\, and will be paired with the last Pasco Farmer’s Market of the season. Register before October 11th to add a name of someone who is no longer with us onto the back of a typographic design generated by all of the names submitted by our runners. Honor someone by continuing your health journey.\nAll proceeds are used to generate scholarships for marginalized youth in our Benton-Franklin counties. \nContact: Saul Martinez \nEmail: martinez.saul@oemete.com
URL:https://3rrr.org/calendar/dia-de-los-muertos-5k-10k-kids-fun-run-and-12-marathon/
CATEGORIES:Races
END:VEVENT
END:VCALENDAR