BEGIN:VCALENDAR
VERSION:2.0
PRODID:-//3 Rivers RoadRunners - ECPv6.15.20//NONSGML v1.0//EN
CALSCALE:GREGORIAN
METHOD:PUBLISH
X-WR-CALNAME:3 Rivers RoadRunners
X-ORIGINAL-URL:https://3rrr.org
X-WR-CALDESC:Events for 3 Rivers RoadRunners
REFRESH-INTERVAL;VALUE=DURATION:PT1H
X-Robots-Tag:noindex
X-PUBLISHED-TTL:PT1H
BEGIN:VTIMEZONE
TZID:America/Los_Angeles
BEGIN:DAYLIGHT
TZOFFSETFROM:-0800
TZOFFSETTO:-0700
TZNAME:PDT
DTSTART:20220313T100000
END:DAYLIGHT
BEGIN:STANDARD
TZOFFSETFROM:-0700
TZOFFSETTO:-0800
TZNAME:PST
DTSTART:20221106T090000
END:STANDARD
BEGIN:DAYLIGHT
TZOFFSETFROM:-0800
TZOFFSETTO:-0700
TZNAME:PDT
DTSTART:20230312T100000
END:DAYLIGHT
BEGIN:STANDARD
TZOFFSETFROM:-0700
TZOFFSETTO:-0800
TZNAME:PST
DTSTART:20231105T090000
END:STANDARD
BEGIN:DAYLIGHT
TZOFFSETFROM:-0800
TZOFFSETTO:-0700
TZNAME:PDT
DTSTART:20240310T100000
END:DAYLIGHT
BEGIN:STANDARD
TZOFFSETFROM:-0700
TZOFFSETTO:-0800
TZNAME:PST
DTSTART:20241103T090000
END:STANDARD
END:VTIMEZONE
BEGIN:VEVENT
DTSTART;TZID=America/Los_Angeles:20230218T200000
DTEND;TZID=America/Los_Angeles:20230218T230000
DTSTAMP:20260419T164045
CREATED:20230208T214321Z
LAST-MODIFIED:20230208T214443Z
UID:39025-1676750400-1676761200@3rrr.org
SUMMARY:February 3RRR Club Meeting at Rattlesnake Mountain Brewing Company
DESCRIPTION:Come join us Saturday\, February 18th at 12:30 pm for another 3RRR club meeting.  Get your workouts wrapped up in the morning and come and relax and enjoy yourself at Rattlesnake Mountain Brewing Company (we’ll be in the back section where we usually are).  You pick up your food tab and\, as usual\, 3RRR takes care of the beer tab.  Hope to see you there. \n 
URL:https://3rrr.org/calendar/february-3rrr-club-meeting-at-rattlesnake-mountain-brewing-company/
CATEGORIES:Other Events
END:VEVENT
END:VCALENDAR