BEGIN:VCALENDAR
VERSION:2.0
PRODID:-//3 Rivers RoadRunners - ECPv6.15.20//NONSGML v1.0//EN
CALSCALE:GREGORIAN
METHOD:PUBLISH
X-WR-CALNAME:3 Rivers RoadRunners
X-ORIGINAL-URL:https://3rrr.org
X-WR-CALDESC:Events for 3 Rivers RoadRunners
REFRESH-INTERVAL;VALUE=DURATION:PT1H
X-Robots-Tag:noindex
X-PUBLISHED-TTL:PT1H
BEGIN:VTIMEZONE
TZID:America/Los_Angeles
BEGIN:DAYLIGHT
TZOFFSETFROM:-0800
TZOFFSETTO:-0700
TZNAME:PDT
DTSTART:20210314T100000
END:DAYLIGHT
BEGIN:STANDARD
TZOFFSETFROM:-0700
TZOFFSETTO:-0800
TZNAME:PST
DTSTART:20211107T090000
END:STANDARD
BEGIN:DAYLIGHT
TZOFFSETFROM:-0800
TZOFFSETTO:-0700
TZNAME:PDT
DTSTART:20220313T100000
END:DAYLIGHT
BEGIN:STANDARD
TZOFFSETFROM:-0700
TZOFFSETTO:-0800
TZNAME:PST
DTSTART:20221106T090000
END:STANDARD
BEGIN:DAYLIGHT
TZOFFSETFROM:-0800
TZOFFSETTO:-0700
TZNAME:PDT
DTSTART:20230312T100000
END:DAYLIGHT
BEGIN:STANDARD
TZOFFSETFROM:-0700
TZOFFSETTO:-0800
TZNAME:PST
DTSTART:20231105T090000
END:STANDARD
END:VTIMEZONE
BEGIN:VEVENT
DTSTART;TZID=America/Los_Angeles:20220813T200000
DTEND;TZID=America/Los_Angeles:20220813T223000
DTSTAMP:20260420T033609
CREATED:20220805T024631Z
LAST-MODIFIED:20220805T024631Z
UID:38171-1660420800-1660429800@3rrr.org
SUMMARY:August Club Meeting
DESCRIPTION:AUGUST 3RRR CLUB MEETING AT THE KENNEWICK LOCATION OF SAGE BREWING AT 1:00 PM ON SATURDAY\, AUGUST 13.  The Sage Brewing Taproom At Hansen Park is located at 910 S Columbia Center Blvd STE G Kennewick\, WA 99336\, next to the new Resort At Hansen Park.  They open right at 1:00 pm on Saturdays\, so we will be the first ones in the door.  They have a kitchen set up so you can order lunch\, so get your swim\, bike and/or run workout taken care of in the morning and then relax with a cold one and some lunch at the club meeting.  As usual\, you pick up the tab for your food order and the club picks up the beer tab.  Hope to see you there.
URL:https://3rrr.org/calendar/august-club-meeting/
CATEGORIES:Other Events
END:VEVENT
END:VCALENDAR