BEGIN:VCALENDAR
VERSION:2.0
PRODID:-//3 Rivers RoadRunners - ECPv6.15.20//NONSGML v1.0//EN
CALSCALE:GREGORIAN
METHOD:PUBLISH
X-WR-CALNAME:3 Rivers RoadRunners
X-ORIGINAL-URL:https://3rrr.org
X-WR-CALDESC:Events for 3 Rivers RoadRunners
REFRESH-INTERVAL;VALUE=DURATION:PT1H
X-Robots-Tag:noindex
X-PUBLISHED-TTL:PT1H
BEGIN:VTIMEZONE
TZID:America/Los_Angeles
BEGIN:DAYLIGHT
TZOFFSETFROM:-0800
TZOFFSETTO:-0700
TZNAME:PDT
DTSTART:20220313T100000
END:DAYLIGHT
BEGIN:STANDARD
TZOFFSETFROM:-0700
TZOFFSETTO:-0800
TZNAME:PST
DTSTART:20221106T090000
END:STANDARD
BEGIN:DAYLIGHT
TZOFFSETFROM:-0800
TZOFFSETTO:-0700
TZNAME:PDT
DTSTART:20230312T100000
END:DAYLIGHT
BEGIN:STANDARD
TZOFFSETFROM:-0700
TZOFFSETTO:-0800
TZNAME:PST
DTSTART:20231105T090000
END:STANDARD
BEGIN:DAYLIGHT
TZOFFSETFROM:-0800
TZOFFSETTO:-0700
TZNAME:PDT
DTSTART:20240310T100000
END:DAYLIGHT
BEGIN:STANDARD
TZOFFSETFROM:-0700
TZOFFSETTO:-0800
TZNAME:PST
DTSTART:20241103T090000
END:STANDARD
END:VTIMEZONE
BEGIN:VEVENT
DTSTART;TZID=America/Los_Angeles:20230701T140000
DTEND;TZID=America/Los_Angeles:20230701T160000
DTSTAMP:20260419T050259
CREATED:20230612T084352Z
LAST-MODIFIED:20230613T215044Z
UID:39265-1688220000-1688227200@3rrr.org
SUMMARY:Zintel Canyon 4K
DESCRIPTION:Race date is July 1.  This is the 7th Annual run in Zintel Canyon. The run begins near 7th and Vancouver and is a 4 km (2.5 mile) round trip on the Spirit of America Trail in the canyon. Register at https://runsignup.com/ZintelCanyon4k \nThis is the 7th Annual run in Zintel Canyon. It is a 4 km (2.5 mile) run on the scenic Spirit of America Trail in the heart of Kennewick\, Washington. The trail includes sections that are paved\, gravel\, and dirt. Registration is $25 and includes a T-Shirt. The race is not chip timed\, but we will manually record times at the finish and post results.
URL:https://3rrr.org/calendar/zintel-canyon-4k-2/
CATEGORIES:Races
END:VEVENT
BEGIN:VEVENT
DTSTART;TZID=America/Los_Angeles:20230701T143000
DTEND;TZID=America/Los_Angeles:20230701T150000
DTSTAMP:20260419T050259
CREATED:20230623T211405Z
LAST-MODIFIED:20230623T211405Z
UID:39325-1688221800-1688223600@3rrr.org
SUMMARY:RRST practice swims
DESCRIPTION:Righteous Richland Sprint Triathlon Training Opportunities!!! Get comfortable with the courses by showing up for some practice swims and rides.\nSWIMS: 7:30 am on June 23\, 24\, and 30 and July 1 and 7. Meet at 7:30 at the Bradley Blvd public parking lot just upstream of the Marian Vista Estates townhouse complex. Or meet 10 minutes later in Howard Amon Park below Sterling’s Restaurant (which is the swim start). If you meet at the Bradley Blvd parking lot you have the chance for a longer swim and warm hose showers after the swim on my driveway. If you have any trouble figuring out where the parking lot is\, Google my address (178 Bradley Blvd) and that should help.\n\nQUESTIONS? Contact me at sageg@charter.net.
URL:https://3rrr.org/calendar/rrst-practice-swims-3/
CATEGORIES:Workouts
END:VEVENT
BEGIN:VEVENT
DTSTART;TZID=America/Los_Angeles:20230701T190000
DTEND;TZID=America/Los_Angeles:20230701T200000
DTSTAMP:20260419T050259
CREATED:20230623T211812Z
LAST-MODIFIED:20230623T211812Z
UID:39333-1688238000-1688241600@3rrr.org
SUMMARY:RRST practice rides
DESCRIPTION:Righteous Richland Sprint Triathlon Training Opportunities!!! Get comfortable with the courses by showing up for some practice swims and rides.\n\nBIKE: I plan on making a few changes to the Chamna bike course for this event\, so it would behoove you to catch a practice ride. The practice rides are June 24 and 30 and July 1\,\, starting at 10:00 am. EXCEPT for July 1\, where the ride starts at noon. Meet at the south end of the parking lot for the Richland Community Center (closest to the Hampton Inn) and we will take off from there.\nQUESTIONS? Contact me at sageg@charter.net.
URL:https://3rrr.org/calendar/rrst-practice-rides-4/
CATEGORIES:Workouts
END:VEVENT
END:VCALENDAR