BEGIN:VCALENDAR
VERSION:2.0
PRODID:-//3 Rivers RoadRunners - ECPv6.15.20//NONSGML v1.0//EN
CALSCALE:GREGORIAN
METHOD:PUBLISH
X-WR-CALNAME:3 Rivers RoadRunners
X-ORIGINAL-URL:https://3rrr.org
X-WR-CALDESC:Events for 3 Rivers RoadRunners
REFRESH-INTERVAL;VALUE=DURATION:PT1H
X-Robots-Tag:noindex
X-PUBLISHED-TTL:PT1H
BEGIN:VTIMEZONE
TZID:America/Los_Angeles
BEGIN:DAYLIGHT
TZOFFSETFROM:-0800
TZOFFSETTO:-0700
TZNAME:PDT
DTSTART:20210314T100000
END:DAYLIGHT
BEGIN:STANDARD
TZOFFSETFROM:-0700
TZOFFSETTO:-0800
TZNAME:PST
DTSTART:20211107T090000
END:STANDARD
BEGIN:DAYLIGHT
TZOFFSETFROM:-0800
TZOFFSETTO:-0700
TZNAME:PDT
DTSTART:20220313T100000
END:DAYLIGHT
BEGIN:STANDARD
TZOFFSETFROM:-0700
TZOFFSETTO:-0800
TZNAME:PST
DTSTART:20221106T090000
END:STANDARD
BEGIN:DAYLIGHT
TZOFFSETFROM:-0800
TZOFFSETTO:-0700
TZNAME:PDT
DTSTART:20230312T100000
END:DAYLIGHT
BEGIN:STANDARD
TZOFFSETFROM:-0700
TZOFFSETTO:-0800
TZNAME:PST
DTSTART:20231105T090000
END:STANDARD
END:VTIMEZONE
BEGIN:VEVENT
DTSTART;TZID=America/Los_Angeles:20221029T160000
DTEND;TZID=America/Los_Angeles:20221029T160000
DTSTAMP:20260419T085358
CREATED:20220926T092127Z
LAST-MODIFIED:20220927T023237Z
UID:38688-1667059200-1667059200@3rrr.org
SUMMARY:Dia de los Muertos 5k 10k kids fun run and 12 Marathon
DESCRIPTION:Welcome to the 5th annual DDLM run\, a celebration of life and afterlife. We have returned to downtown Pasco after a Covid hiatus\, this year adding a half and continuing our tradition of “day of the dead” decor & face painting\, and will be paired with the last Pasco Farmer’s Market of the season. Register before October 11th to add a name of someone who is no longer with us onto the back of a typographic design generated by all of the names submitted by our runners. Honor someone by continuing your health journey.\nAll proceeds are used to generate scholarships for marginalized youth in our Benton-Franklin counties. \nContact: Saul Martinez \nEmail: martinez.saul@oemete.com
URL:https://3rrr.org/calendar/dia-de-los-muertos-5k-10k-kids-fun-run-and-12-marathon/
CATEGORIES:Races
END:VEVENT
END:VCALENDAR